BEGIN:VCALENDAR
VERSION:2.0
PRODID:-//Ecco Adesso Vineyards - ECPv6.15.20//NONSGML v1.0//EN
CALSCALE:GREGORIAN
METHOD:PUBLISH
X-ORIGINAL-URL:https://eccoadesso.com
X-WR-CALDESC:Events for Ecco Adesso Vineyards
REFRESH-INTERVAL;VALUE=DURATION:PT1H
X-Robots-Tag:noindex
X-PUBLISHED-TTL:PT1H
BEGIN:VTIMEZONE
TZID:America/New_York
BEGIN:DAYLIGHT
TZOFFSETFROM:-0500
TZOFFSETTO:-0400
TZNAME:EDT
DTSTART:20240310T070000
END:DAYLIGHT
BEGIN:STANDARD
TZOFFSETFROM:-0400
TZOFFSETTO:-0500
TZNAME:EST
DTSTART:20241103T060000
END:STANDARD
BEGIN:DAYLIGHT
TZOFFSETFROM:-0500
TZOFFSETTO:-0400
TZNAME:EDT
DTSTART:20250309T070000
END:DAYLIGHT
BEGIN:STANDARD
TZOFFSETFROM:-0400
TZOFFSETTO:-0500
TZNAME:EST
DTSTART:20251102T060000
END:STANDARD
BEGIN:DAYLIGHT
TZOFFSETFROM:-0500
TZOFFSETTO:-0400
TZNAME:EDT
DTSTART:20260308T070000
END:DAYLIGHT
BEGIN:STANDARD
TZOFFSETFROM:-0400
TZOFFSETTO:-0500
TZNAME:EST
DTSTART:20261101T060000
END:STANDARD
END:VTIMEZONE
BEGIN:VEVENT
DTSTART;TZID=America/New_York:20251214T120000
DTEND;TZID=America/New_York:20251214T170000
DTSTAMP:20260423T100239
CREATED:20251124T163016Z
LAST-MODIFIED:20251203T013749Z
UID:3277-1765713600-1765731600@eccoadesso.com
SUMMARY:Holiday Music with Matt J
DESCRIPTION:Unwind at the vineyard with festive holiday music from 1-4pm with Matt J! Sit fireside while sipping delicious wine and gathering with friends and family. Whether you bring your own picnic basket or enjoy one prepared by us\, you’ll savor our award-winning wines\, cozy fires\, delicious mimosas\, seasonal spritzers\, pizzas\, and light bites. Explore our hiking trails and soak in the stunning vineyard views. With plenty of indoor and outdoor seating\, you’ll find the perfect spot to relax. Bring your four-legged friends\, littles\, and favorite people for a perfect day out at the vineyard.
URL:https://eccoadesso.com/event/sip-savor-sundays-2/
LOCATION:Ecco Adesso Vineyards\, 340 Ecco Adesso Lane\, Fairfield\, VA\, 24435\, United States
END:VEVENT
END:VCALENDAR