BEGIN:VCALENDAR
VERSION:2.0
PRODID:-//Ecco Adesso Vineyards - ECPv6.15.20//NONSGML v1.0//EN
CALSCALE:GREGORIAN
METHOD:PUBLISH
X-WR-CALNAME:Ecco Adesso Vineyards
X-ORIGINAL-URL:https://eccoadesso.com
X-WR-CALDESC:Events for Ecco Adesso Vineyards
REFRESH-INTERVAL;VALUE=DURATION:PT1H
X-Robots-Tag:noindex
X-PUBLISHED-TTL:PT1H
BEGIN:VTIMEZONE
TZID:America/New_York
BEGIN:DAYLIGHT
TZOFFSETFROM:-0500
TZOFFSETTO:-0400
TZNAME:EDT
DTSTART:20240310T070000
END:DAYLIGHT
BEGIN:STANDARD
TZOFFSETFROM:-0400
TZOFFSETTO:-0500
TZNAME:EST
DTSTART:20241103T060000
END:STANDARD
BEGIN:DAYLIGHT
TZOFFSETFROM:-0500
TZOFFSETTO:-0400
TZNAME:EDT
DTSTART:20250309T070000
END:DAYLIGHT
BEGIN:STANDARD
TZOFFSETFROM:-0400
TZOFFSETTO:-0500
TZNAME:EST
DTSTART:20251102T060000
END:STANDARD
BEGIN:DAYLIGHT
TZOFFSETFROM:-0500
TZOFFSETTO:-0400
TZNAME:EDT
DTSTART:20260308T070000
END:DAYLIGHT
BEGIN:STANDARD
TZOFFSETFROM:-0400
TZOFFSETTO:-0500
TZNAME:EST
DTSTART:20261101T060000
END:STANDARD
END:VTIMEZONE
BEGIN:VEVENT
DTSTART;TZID=America/New_York:20250914T120000
DTEND;TZID=America/New_York:20250914T180000
DTSTAMP:20260424T095759
CREATED:20250904T100747Z
LAST-MODIFIED:20250904T100747Z
UID:3247-1757851200-1757872800@eccoadesso.com
SUMMARY:Sip & Paint Workshop-Sunny Knoll Studios
DESCRIPTION:Get ready to have a fabulous time! Join us for a fun and festive afternoon of pumpkin themed painting\, sipping on delicious drinks\, and great company. Whether you’re a seasoned artist or just looking for a creative outlet\, this is the perfect way to kick off the fall season!!!\nCost is $35/person\, to include all instruction and materials. This event is perfect for beginners and seasoned painters alike – I’ll be there to guide you step-by-step!! Wine\, spritzers\, and snacks will all be available for purchase!! Grab your besties and come out for some Sunday Funday fun!!!\nReady to reserve your easel and create a masterpiece?!? Space is limited!! Contact me at 540.784.8121 or leighann_mccoy@yahoo.com today!!!\n\nSUNDAY SPECIALS: Mimosa and Wine Spritzers
URL:https://eccoadesso.com/event/sip-paint-workshop-sunny-knoll-studios/
LOCATION:Ecco Adesso Vineyards\, 340 Ecco Adesso Lane\, Fairfield\, VA\, 24435\, United States
END:VEVENT
BEGIN:VEVENT
DTSTART;TZID=America/New_York:20250914T120000
DTEND;TZID=America/New_York:20250914T180000
DTSTAMP:20260424T095759
CREATED:20250904T141525Z
LAST-MODIFIED:20250904T141525Z
UID:3255-1757851200-1757872800@eccoadesso.com
SUMMARY:Sip & Savor Sundays
DESCRIPTION:Unwind at our vineyard every Sunday. Whether you bring your own picnic basket or enjoy one prepared by us\, you’ll savor our award-winning wines\, delicious mimosas\, seasonal spritzers\, pizzas\, and light bites. Explore our hiking trails and soak in the stunning vineyard views. With plenty of indoor and outdoor seating\, you’ll find the perfect spot to relax. Bring your four-legged friends\, littles\, and favorite people for a perfect day out at the vineyard.\nHours are from 12-6pm
URL:https://eccoadesso.com/event/sip-savor-sundays-9/
LOCATION:Ecco Adesso Vineyards\, 340 Ecco Adesso Lane\, Fairfield\, VA\, 24435\, United States
END:VEVENT
END:VCALENDAR