BEGIN:VCALENDAR
VERSION:2.0
PRODID:-//Ecco Adesso Vineyards - ECPv6.15.20//NONSGML v1.0//EN
CALSCALE:GREGORIAN
METHOD:PUBLISH
X-ORIGINAL-URL:https://eccoadesso.com
X-WR-CALDESC:Events for Ecco Adesso Vineyards
REFRESH-INTERVAL;VALUE=DURATION:PT1H
X-Robots-Tag:noindex
X-PUBLISHED-TTL:PT1H
BEGIN:VTIMEZONE
TZID:America/New_York
BEGIN:DAYLIGHT
TZOFFSETFROM:-0500
TZOFFSETTO:-0400
TZNAME:EDT
DTSTART:20240310T070000
END:DAYLIGHT
BEGIN:STANDARD
TZOFFSETFROM:-0400
TZOFFSETTO:-0500
TZNAME:EST
DTSTART:20241103T060000
END:STANDARD
BEGIN:DAYLIGHT
TZOFFSETFROM:-0500
TZOFFSETTO:-0400
TZNAME:EDT
DTSTART:20250309T070000
END:DAYLIGHT
BEGIN:STANDARD
TZOFFSETFROM:-0400
TZOFFSETTO:-0500
TZNAME:EST
DTSTART:20251102T060000
END:STANDARD
BEGIN:DAYLIGHT
TZOFFSETFROM:-0500
TZOFFSETTO:-0400
TZNAME:EDT
DTSTART:20260308T070000
END:DAYLIGHT
BEGIN:STANDARD
TZOFFSETFROM:-0400
TZOFFSETTO:-0500
TZNAME:EST
DTSTART:20261101T060000
END:STANDARD
END:VTIMEZONE
BEGIN:VEVENT
DTSTART;TZID=America/New_York:20250901T130000
DTEND;TZID=America/New_York:20250901T170000
DTSTAMP:20260420T062750
CREATED:20250827T170452Z
LAST-MODIFIED:20250827T170452Z
UID:3237-1756731600-1756746000@eccoadesso.com
SUMMARY:Labor Day at the Vineyard-Open 1-5pm
DESCRIPTION:We will be open on Monday for Labor Day from 1-5pm with wine by the glass\, bottle\, or flight\, cider\, Italian spritzers\, pizzas and picnic baskets. We have plenty of seating inside and out for you to enjoy. Open 1-5pm.
URL:https://eccoadesso.com/event/labor-day-at-the-vineyard-open-1-5pm/
LOCATION:Ecco Adesso Vineyards\, 340 Ecco Adesso Lane\, Fairfield\, VA\, 24435\, United States
END:VEVENT
BEGIN:VEVENT
DTSTART;TZID=America/New_York:20250901T130000
DTEND;TZID=America/New_York:20250901T170000
DTSTAMP:20260420T062750
CREATED:20250901T165933Z
LAST-MODIFIED:20250827T170346Z
UID:3236-1756731600-1756746000@eccoadesso.com
SUMMARY:Labor Day at the Winery
DESCRIPTION:We will be open on Monday for Labor Day from 1-5pm with wine by the glass\, bottle\, or flight\, cider\, Italian spritzers\, pizzas and picnic baskets. We have plenty of seating inside and out for you to enjoy. Open 1-5pm.
URL:https://eccoadesso.com/event/labor-day-at-the-winery/
LOCATION:Ecco Adesso Vineyards\, 340 Ecco Adesso Lane\, Fairfield\, VA\, 24435\, United States
END:VEVENT
END:VCALENDAR