BEGIN:VCALENDAR
VERSION:2.0
PRODID:-//Ecco Adesso Vineyards - ECPv6.15.20//NONSGML v1.0//EN
CALSCALE:GREGORIAN
METHOD:PUBLISH
X-WR-CALNAME:Ecco Adesso Vineyards
X-ORIGINAL-URL:https://eccoadesso.com
X-WR-CALDESC:Events for Ecco Adesso Vineyards
REFRESH-INTERVAL;VALUE=DURATION:PT1H
X-Robots-Tag:noindex
X-PUBLISHED-TTL:PT1H
BEGIN:VTIMEZONE
TZID:America/New_York
BEGIN:DAYLIGHT
TZOFFSETFROM:-0500
TZOFFSETTO:-0400
TZNAME:EDT
DTSTART:20240310T070000
END:DAYLIGHT
BEGIN:STANDARD
TZOFFSETFROM:-0400
TZOFFSETTO:-0500
TZNAME:EST
DTSTART:20241103T060000
END:STANDARD
BEGIN:DAYLIGHT
TZOFFSETFROM:-0500
TZOFFSETTO:-0400
TZNAME:EDT
DTSTART:20250309T070000
END:DAYLIGHT
BEGIN:STANDARD
TZOFFSETFROM:-0400
TZOFFSETTO:-0500
TZNAME:EST
DTSTART:20251102T060000
END:STANDARD
BEGIN:DAYLIGHT
TZOFFSETFROM:-0500
TZOFFSETTO:-0400
TZNAME:EDT
DTSTART:20260308T070000
END:DAYLIGHT
BEGIN:STANDARD
TZOFFSETFROM:-0400
TZOFFSETTO:-0500
TZNAME:EST
DTSTART:20261101T060000
END:STANDARD
END:VTIMEZONE
BEGIN:VEVENT
DTSTART;TZID=America/New_York:20250830T120000
DTEND;TZID=America/New_York:20250830T190000
DTSTAMP:20260420T045331
CREATED:20250827T165523Z
LAST-MODIFIED:20250827T165523Z
UID:3234-1756555200-1756580400@eccoadesso.com
SUMMARY:Low Country Shrimp Boil + Live Music in the Vineyard
DESCRIPTION:We’re closing out summer in the best way— with a classic Low Country Shrimp Boil this Saturday\, August 30th! \nChef Troy will be cooking up a classic shrimp boil starting at 1pm at the wine pavilion\, and our wine bar will be open with all your favorites. \nStick around for live music at 3 PM with Matt J\, former contestant from The Voice\, and soak in the vineyard views with a glass of Virginia wine in hand. Come early—this one won’t last long!\n\nOpen 12-7\, family and pet friendly.
URL:https://eccoadesso.com/event/low-country-shrimp-boil-live-music-in-the-vineyard/
LOCATION:Ecco Adesso Vineyards\, 340 Ecco Adesso Lane\, Fairfield\, VA\, 24435\, United States
END:VEVENT
END:VCALENDAR